BEGIN:VCALENDAR
VERSION:2.0
PRODID:Events Booking
BEGIN:VEVENT
UID:69e7d4ca2ed86
SUMMARY:Team Barrett (aka Andrew's Army) MND NSW Fundraiser
DESCRIPTION:The Team Barrett (aka Andrew's Army) MND NSW Fundraiser is set 
 to be a night of fine food and drink\, live music\, fundraising and fantas
 tic fun! So frock up in your formal attire and come along!
 Your ticket i
 ncludes entry to the event\, canapes plus two course dinner\, and a 5 hour
  drinks package including all tap beers\, soft drinks and premium Hunter V
 alley wines and sparkling. There'll be live music\, as well as a silent au
 ction.
LOCATION:Hunter St\, Newcastle NSW 2300\, Australia
DTSTART:20210508T080000Z
DTSTAMP:20260421T194930Z
ORGANIZER;CN=MNDNSW Website - Events:MAILTO:info@mndnsw.org.au
GEO:-32.925663;151.778757
X-APPLE-STRUCTURED-LOCATION;VALUE=URI;X-ADDRESS=Hunter St\, Newcastle NSW 2
 300\, Australia;X-APPLE-RADIUS=72;X-TITLE=Sprout @ Crown and Anchor:-32.92
 5663;151.778757
END:VEVENT
END:VCALENDAR