BEGIN:VCALENDAR
VERSION:2.0
PRODID:Events Booking
BEGIN:VEVENT
UID:69e796ceaa502
SUMMARY:Drink Tea for MND
DESCRIPTION:Support people living with motor neurone disease and have fun w
 ith friends by hosting a Drink Tea for MND (DT4MND) event!
DTSTART:20210823T140000Z
DTSTAMP:20260421T152502Z
ORGANIZER;CN=MNDNSW Website - Events:MAILTO:info@mndnsw.org.au
END:VEVENT
END:VCALENDAR