BEGIN:VCALENDAR
VERSION:2.0
PRODID:Events Booking
BEGIN:VEVENT
UID:69e781c77f74b
SUMMARY:40th Anniversary Spring Ball We're Not Having
DESCRIPTION:We’ve now been there for people living with MND for 40 years\
 , and to mark the occasion\, you’re invited to our 40th Anniversary Spri
 ng Ball We’re Not Having on September 4.
DTSTART:20210904T080000Z
DTSTAMP:20260421T135519Z
ORGANIZER;CN=MNDNSW Website - Events:MAILTO:info@mndnsw.org.au
END:VEVENT
END:VCALENDAR