BEGIN:VCALENDAR
VERSION:2.0
PRODID:Events Booking
BEGIN:VEVENT
UID:69e6df0795338
SUMMARY:Dungog A & H Association Motor Neurone Charity Muster
DESCRIPTION:The Dungog A &amp\; H Association Motor Neurone Charity Muster 
 is a fun day out with activities including Campdrafting\, Dog Trialing\, a
  kids Fancy Dress Pet Show\, Raffles\, an Auction\, Dinner &amp\; Live Mus
 ic. All in aid of raising much needed funds for Motor Neurone Disease rese
 arch.
LOCATION:Abelard St\, Dungog NSW 2420
DTSTART:20220520T233000Z
DTSTAMP:20211215T144044Z
ORGANIZER;CN=MNDNSW Website - Events:MAILTO:info@mndnsw.org.au
GEO:-32.407911;151.750317
X-APPLE-STRUCTURED-LOCATION;VALUE=URI;X-ADDRESS=Abelard St\, Dungog NSW 242
 0;X-APPLE-RADIUS=72;X-TITLE=Dungog Showground:-32.407911;151.750317
END:VEVENT
END:VCALENDAR