BEGIN:VCALENDAR
VERSION:2.0
PRODID:Events Booking
BEGIN:VEVENT
UID:69e6f303b10fa
SUMMARY:Plant Sale
DESCRIPTION:Jazz up your garden or home with some beautiful new greenery an
 d help MND NSW support people living with motor neurone disease.
 Lyn and
  Doreen are hosting a fabulous plant sale on April 30 at&nbsp\;16 Tompson 
 Rd Revesby.
LOCATION:16 Tompson Rd\, Revesby
DTSTART:20220429T140000Z
DTSTAMP:20220328T201622Z
ORGANIZER;CN=MNDNSW Website - Events:MAILTO:info@mndnsw.org.au
GEO:-33.959882;151.015118
X-APPLE-STRUCTURED-LOCATION;VALUE=URI;X-ADDRESS=16 Tompson Rd\, Revesby;X-A
 PPLE-RADIUS=72;X-TITLE=Revesby:-33.959882;151.015118
END:VEVENT
END:VCALENDAR