BEGIN:VCALENDAR
VERSION:2.0
PRODID:Events Booking
BEGIN:VEVENT
UID:69e6f2719bea4
SUMMARY:Mullet It Go
DESCRIPTION:
 Nigel is letting go of his mullet of 4 years\, all in aid of
  MND NSW and the people we support who are living with motor neurone disea
 se.
 
 
 &nbsp\;
 
LOCATION:Toormina NSW
DTSTART:20220402T020000Z
DTEND:20220402T063000Z
DTSTAMP:20220329T182800Z
ORGANIZER;CN=MNDNSW Website - Events:MAILTO:info@mndnsw.org.au
GEO:-30.359552;153.08485
X-APPLE-STRUCTURED-LOCATION;VALUE=URI;X-ADDRESS=Toormina NSW;X-APPLE-RADIUS
 =72;X-TITLE=Toormina Road\,:-30.359552;153.08485
END:VEVENT
END:VCALENDAR