BEGIN:VCALENDAR
VERSION:2.0
PRODID:Events Booking
BEGIN:VEVENT
UID:69e6b61dded82
SUMMARY:March for MND Larapinta 2022
DESCRIPTION:The March for MND 2022 will see teams take on the unforgettable
  adventure trek in Australia’s Red Centre. Each team will be raising awa
 reness and funds for MND NSW to provide essential services and support for
  people living with motor neurone disease.
DTSTART:20220728T140000Z
DTEND:20220803T140000Z
DTSTAMP:20220329T194235Z
ORGANIZER;CN=MNDNSW Website - Events:MAILTO:info@mndnsw.org.au
END:VEVENT
END:VCALENDAR