BEGIN:VCALENDAR
VERSION:2.0
PRODID:Events Booking
BEGIN:VEVENT
UID:69e6a3608c8c2
SUMMARY:MND Special Interest Group (SIG) Workshop
DESCRIPTION:The SIG workshop is for clinicians and community care professio
 nals from across NSW and the ACT who have an interest in and care for peop
 le living with MND.
LOCATION:117 Ryedale Road
DTSTART:20220822T233000Z
DTEND:20220823T063000Z
DTSTAMP:20220530T181517Z
ORGANIZER;CN=MNDNSW Website - Events:MAILTO:info@mndnsw.org.au
GEO:-33.805088;151.091825
X-APPLE-STRUCTURED-LOCATION;VALUE=URI;X-ADDRESS=117 Ryedale Road;X-APPLE-RA
 DIUS=72;X-TITLE=Ryde Eastwood Leagues Club:-33.805088;151.091825
END:VEVENT
END:VCALENDAR