BEGIN:VCALENDAR
VERSION:2.0
PRODID:Events Booking
BEGIN:VEVENT
UID:69e6ce0009be2
SUMMARY:State of Play - Webinar
DESCRIPTION:State of Play: How can research in allied health help build bet
 ter models of care?
 Join MND Research Australia for this free online web
 inar.&nbsp\;
DTSTART:20220622T090000Z
DTEND:20220622T100000Z
DTSTAMP:20220613T200500Z
ORGANIZER;CN=MNDNSW Website - Events:MAILTO:info@mndnsw.org.au
END:VEVENT
END:VCALENDAR