BEGIN:VCALENDAR
VERSION:2.0
PRODID:Events Booking
BEGIN:VEVENT
UID:69e6b38f24174
SUMMARY:MND and Cognition
DESCRIPTION:MND Victoria are hosting a series of webinars for health profes
 sionals - this online webinar will be covering&nbsp\;MND and Cognition&nbs
 p\;
 &nbsp\;
DTSTART:20220707T010000Z
DTEND:20220707T021500Z
DTSTAMP:20220613T213118Z
ORGANIZER;CN=MNDNSW Website - Events:MAILTO:info@mndnsw.org.au
END:VEVENT
END:VCALENDAR