BEGIN:VCALENDAR
VERSION:2.0
PRODID:Events Booking
BEGIN:VEVENT
UID:69e6a39ed3100
SUMMARY:State of Play - Webinar
DESCRIPTION:State of Play: What is happening in the brain in MND?
 Join MN
 D Research Australia for this free online webinar.&nbsp\;
DTSTART:20220817T090000Z
DTEND:20220817T100000Z
DTSTAMP:20220808T175117Z
ORGANIZER;CN=MNDNSW Website - Events:MAILTO:info@mndnsw.org.au
END:VEVENT
END:VCALENDAR