BEGIN:VCALENDAR
VERSION:2.0
PRODID:Events Booking
BEGIN:VEVENT
UID:69e77a6a68a3f
SUMMARY:State of Play - Webinar
DESCRIPTION:State of Play: Technology advances in MND.
 Join MND Research 
 Australia for this free online webinar.&nbsp\;
DTSTART:20220914T090000Z
DTEND:20220914T100000Z
DTSTAMP:20220905T182819Z
ORGANIZER;CN=MNDNSW Website - Events:MAILTO:info@mndnsw.org.au
END:VEVENT
END:VCALENDAR