BEGIN:VCALENDAR
VERSION:2.0
PRODID:Events Booking
BEGIN:VEVENT
UID:69e67a4e40839
SUMMARY:Eye Gaze and Mounting - afternoon session (FULL)
DESCRIPTION:Eye Gaze and Mounting.&nbsp\;
 This is a face-to-face practica
 l session for Allied Health Professionals provided by&nbsp\;FlexEquip.
LOCATION:60 Ocean Parade Coffs Harbour NSW 2450
DTSTART:20221027T013000Z
DTEND:20221027T033000Z
DTSTAMP:20220906T203033Z
ORGANIZER;CN=MNDNSW Website - Events:MAILTO:info@mndnsw.org.au
GEO:-30.288641;153.136176
X-APPLE-STRUCTURED-LOCATION;VALUE=URI;X-ADDRESS=60 Ocean Parade Coffs Harbo
 ur NSW 2450;X-APPLE-RADIUS=72;X-TITLE=Park Beach Bowling Club:-30.288641;1
 53.136176
END:VEVENT
END:VCALENDAR