BEGIN:VCALENDAR
VERSION:2.0
PRODID:Events Booking
BEGIN:VEVENT
UID:69e6645ac2f0c
SUMMARY:FlexEquip Eye Gaze and Mounting Training
DESCRIPTION:FlexEquip are offering a face-to-face theory and practical sess
 ion for Allied Health Professionals on the use of Eye Gaze devices\, mount
 s and communication software.
LOCATION:12 Trinity Row\, Bulli NSW 2516\, Australia
DTSTART:20221128T130000Z
DTEND:20221128T130000Z
DTSTAMP:20221031T145342Z
ORGANIZER;CN=MNDNSW Website - Events:MAILTO:info@mndnsw.org.au
GEO:-34.339419;150.924891
X-APPLE-STRUCTURED-LOCATION;VALUE=URI;X-ADDRESS=12 Trinity Row\, Bulli NSW 
 2516\, Australia;X-APPLE-RADIUS=72;X-TITLE=Bulli Surf Club:-34.339419;150.
 924891
END:VEVENT
END:VCALENDAR