BEGIN:VCALENDAR
VERSION:2.0
PRODID:Events Booking
BEGIN:VEVENT
UID:69e5e644ae01e
SUMMARY:Interactive Online MND Aware Workshop
DESCRIPTION:Register now to attend a live online MND Aware workshop - 23 Ma
 y 2023.
 Tickets are limited so regsiter today to secure your spot!
DTSTART:20230522T233000Z
DTEND:20230523T043000Z
DTSTAMP:20230126T134552Z
ORGANIZER;CN=MNDNSW Website - Events:MAILTO:info@mndnsw.org.au
END:VEVENT
END:VCALENDAR