BEGIN:VCALENDAR
VERSION:2.0
PRODID:Events Booking
BEGIN:VEVENT
UID:69e60e9ae9a9f
SUMMARY:FlexEquip Eye Gaze and Mounting Training - Ballina
DESCRIPTION:Are you an allied health professional with an interest in Eye G
 aze devices\, mounts and communication software?
LOCATION:68 Cherry St\, Ballina NSW 2478\, Australia
DTSTART:20230228T234500Z
DTEND:20230301T014500Z
DTSTAMP:20230130T181250Z
ORGANIZER;CN=MNDNSW Website - Events:MAILTO:info@mndnsw.org.au
GEO:-28.864998;153.563911
X-APPLE-STRUCTURED-LOCATION;VALUE=URI;X-ADDRESS=68 Cherry St\, Ballina NSW 
 2478\, Australia;X-APPLE-RADIUS=72;X-TITLE=Cherry Street Sports Club:-28.8
 64998;153.563911
END:VEVENT
END:VCALENDAR