BEGIN:VCALENDAR
VERSION:2.0
PRODID:Events Booking
BEGIN:VEVENT
UID:69e5fe5f26d0d
SUMMARY:FlexEquip Eye Gaze and Mounting Training - Morning Session\, Newcas
 tle - Session FULL 
DESCRIPTION:Are you an allied health professional with an interest in Eye G
 aze devices\, mounts and communication software?
LOCATION:8 Bula Street Charlestown
DTSTART:20230404T000000Z
DTEND:20230404T020000Z
DTSTAMP:20230220T135532Z
ORGANIZER;CN=MNDNSW Website - Events:MAILTO:info@mndnsw.org.au
GEO:-32.973132;151.705119
X-APPLE-STRUCTURED-LOCATION;VALUE=URI;X-ADDRESS=8 Bula Street Charlestown;X
 -APPLE-RADIUS=72;X-TITLE=Central Leagues Club:-32.973132;151.705119
END:VEVENT
END:VCALENDAR