BEGIN:VCALENDAR
VERSION:2.0
PRODID:Events Booking
BEGIN:VEVENT
UID:69e60fa414b4e
SUMMARY:FlexEquip Eye Gaze and Mounting Training - Morning Session\, Orange
DESCRIPTION:Are you an allied health professional with an interest in Eye G
 aze devices\, mounts and communication software?
LOCATION:231-243 Anson Street Orange NSW 2800
DTSTART:20230322T220000Z
DTEND:20230323T000000Z
DTSTAMP:20230220T140142Z
ORGANIZER;CN=MNDNSW Website - Events:MAILTO:info@mndnsw.org.au
GEO:-33.28397;149.10018
X-APPLE-STRUCTURED-LOCATION;VALUE=URI;X-ADDRESS=231-243 Anson Street Orange
  NSW 2800;X-APPLE-RADIUS=72;X-TITLE=Orange Ex-Services Club:-33.28397;149.
 10018
END:VEVENT
END:VCALENDAR