BEGIN:VCALENDAR
VERSION:2.0
PRODID:Events Booking
BEGIN:VEVENT
UID:69e60edf605d1
SUMMARY:FlexEquip Your Questions Answered Live Webinar for Health Professio
 nals
DESCRIPTION:For Health professionals - Join the FlexEquip team for this liv
 e webinar to hear about the service FlexEquip provides and have your quest
 ions answered.
DTSTART:20230328T230000Z
DTEND:20230329T000000Z
DTSTAMP:20230305T134331Z
ORGANIZER;CN=MNDNSW Website - Events:MAILTO:info@mndnsw.org.au
END:VEVENT
END:VCALENDAR