BEGIN:VCALENDAR
VERSION:2.0
PRODID:Events Booking
BEGIN:VEVENT
UID:69e57950eb720
SUMMARY:Managing Nutrition and Swallowing in MND
DESCRIPTION:Join Emma Thomson (Dietitian\, All About Nutrition) and Susanna
 h Bonner (Director of All About Speech Pathology) in a conversation about 
 managing nutrition and swallowing in MND.&nbsp\;&nbsp\;
DTSTART:20231018T023000Z
DTEND:20231018T033000Z
DTSTAMP:20230323T170643Z
ORGANIZER;CN=MNDNSW Website - Events:MAILTO:info@mndnsw.org.au
END:VEVENT
END:VCALENDAR