BEGIN:VCALENDAR
VERSION:2.0
PRODID:Events Booking
BEGIN:VEVENT
UID:69e5cfc7310bd
SUMMARY:FlexEquip: AAC and Mounting Theory and Practical Introduction Train
 ing
DESCRIPTION:Join the FlexEquip team for a theory and practical workshop abo
 ut the use of AAC\, incluidng eye gaze.
LOCATION:Rocklands Drive\, Tiwi NT\, 0810
DTSTART:20230608T230000Z
DTEND:20230609T023000Z
DTSTAMP:20230509T142042Z
ORGANIZER;CN=MNDNSW Website - Events:MAILTO:info@mndnsw.org.au
GEO:-12.359602;130.876995
X-APPLE-STRUCTURED-LOCATION;VALUE=URI;X-ADDRESS=Rocklands Drive\, Tiwi NT\,
  0810;X-APPLE-RADIUS=72;X-TITLE=Royal Darwin Hospital:-12.359602;130.87699
 5
END:VEVENT
END:VCALENDAR