BEGIN:VCALENDAR
VERSION:2.0
PRODID:Events Booking
BEGIN:VEVENT
UID:69e563364a982
SUMMARY:Sold Out - MND Upskill for Health Professionals - Campbelltown
DESCRIPTION:This event is sold out. Email education@mndnsw.org.au&nbsp\;to 
 join the waiting list.
 This full day practical workshop is for health pr
 ofessionals who are supporting people with MND.&nbsp\;
LOCATION:Oxley Street\, Camden NSW 2570
DTSTART:20231114T223000Z
DTEND:20231115T050000Z
DTSTAMP:20230924T195422Z
ORGANIZER;CN=MNDNSW Website - Events:MAILTO:info@mndnsw.org.au
GEO:34.0534;150.694
X-APPLE-STRUCTURED-LOCATION;VALUE=URI;X-ADDRESS=Oxley Street\, Camden NSW 2
 570;X-APPLE-RADIUS=72;X-TITLE=Camden Civic Centre:34.0534;150.694
END:VEVENT
END:VCALENDAR