BEGIN:VCALENDAR
VERSION:2.0
PRODID:Events Booking
BEGIN:VEVENT
UID:69e562fcf073d
SUMMARY:Sold Out - MND Upskill for Health Professionals - Wagga Wagga
DESCRIPTION:This full day practical workshop is for health professionals wh
 o are supporting people with MND.&nbsp\;
LOCATION:27 Pearson Street Wagga Wagga
DTSTART:20231127T223000Z
DTEND:20231128T050000Z
DTSTAMP:20230924T195422Z
ORGANIZER;CN=MNDNSW Website - Events:MAILTO:info@mndnsw.org.au
GEO:-35.11922;147.34549
X-APPLE-STRUCTURED-LOCATION;VALUE=URI;X-ADDRESS=27 Pearson Street Wagga Wag
 ga;X-APPLE-RADIUS=72;X-TITLE=Open Mobility:-35.11922;147.34549
END:VEVENT
END:VCALENDAR