BEGIN:VCALENDAR
VERSION:2.0
PRODID:Events Booking
BEGIN:VEVENT
UID:69e54e8832aae
SUMMARY:Sold Out - MND Upskill for Health Professionals - Lismore
DESCRIPTION:This event is sold out. Email education@mndnsw.org.au&nbsp\;to 
 join the waiting list.This full day practical workshop is for health profe
 ssionals who are supporting people with MND.&nbsp\;
LOCATION:202 Oliver Avenue\, Goonellabah NSW 2480
DTSTART:20231204T223000Z
DTEND:20231205T050000Z
DTSTAMP:20230924T195422Z
ORGANIZER;CN=MNDNSW Website - Events:MAILTO:info@mndnsw.org.au
GEO:-28.821745;153.343378
X-APPLE-STRUCTURED-LOCATION;VALUE=URI;X-ADDRESS=202 Oliver Avenue\, Goonell
 abah NSW 2480;X-APPLE-RADIUS=72;X-TITLE=Lismore Workers Sports Club:-28.82
 1745;153.343378
END:VEVENT
END:VCALENDAR