BEGIN:VCALENDAR
VERSION:2.0
PRODID:Events Booking
BEGIN:VEVENT
UID:69e520612f686
SUMMARY:MND Upskill for Health Professionals - Port Macquarie
DESCRIPTION:This full day practical workshop is for health professionals wh
 o are supporting people with MND.&nbsp\;
LOCATION:25 Buller Street\, Port Macquarie NSW 2444
DTSTART:20240205T223000Z
DTEND:20240206T043000Z
DTSTAMP:20230924T195422Z
ORGANIZER;CN=MNDNSW Website - Events:MAILTO:info@mndnsw.org.au
GEO:-31.431277;152.90659
X-APPLE-STRUCTURED-LOCATION;VALUE=URI;X-ADDRESS=25 Buller Street\, Port Mac
 quarie NSW 2444;X-APPLE-RADIUS=72;X-TITLE=The Westport Club:-31.431277;152
 .90659
END:VEVENT
END:VCALENDAR