BEGIN:VCALENDAR
VERSION:2.0
PRODID:Events Booking
BEGIN:VEVENT
UID:69e5209d321ec
SUMMARY:MND Upskill for Health Professionals - Blacktown
DESCRIPTION:This full day practical workshop is for health professionals wh
 o are supporting people with MND.&nbsp\;
LOCATION:54 Pulley Dr\, Ropes Crossing NSW 2760 
DTSTART:20240212T223000Z
DTEND:20240213T043000Z
DTSTAMP:20230924T195422Z
ORGANIZER;CN=MNDNSW Website - Events:MAILTO:info@mndnsw.org.au
GEO:-33.732365;150.782883
X-APPLE-STRUCTURED-LOCATION;VALUE=URI;X-ADDRESS=54 Pulley Dr\, Ropes Crossi
 ng NSW 2760 ;X-APPLE-RADIUS=72;X-TITLE=Ropes Crossing Community Hub:-33.73
 2365;150.782883
END:VEVENT
END:VCALENDAR