BEGIN:VCALENDAR
VERSION:2.0
PRODID:Events Booking
BEGIN:VEVENT
UID:69e5209d31d13
SUMMARY:MND Upskill for Health Professionals - Newcastle - SOLD OUT
DESCRIPTION:There are no tickets remaining for this session. Please contact
  education@mndnsw.org.au&nbsp\;to join the waiting list.
 This full day p
 ractical workshop is for health professionals who are supporting people wi
 th MND.&nbsp\;
LOCATION:5 Tyrell Street Wallsend
DTSTART:20240219T223000Z
DTEND:20240220T043000Z
DTSTAMP:20230924T195422Z
ORGANIZER;CN=MNDNSW Website - Events:MAILTO:info@mndnsw.org.au
GEO:-32.901545;151.670839
X-APPLE-STRUCTURED-LOCATION;VALUE=URI;X-ADDRESS=5 Tyrell Street Wallsend;X-
 APPLE-RADIUS=72;X-TITLE=Wallsend Diggers:-32.901545;151.670839
END:VEVENT
END:VCALENDAR