BEGIN:VCALENDAR
VERSION:2.0
PRODID:Events Booking
BEGIN:VEVENT
UID:69e4cab25e2d9
SUMMARY:Sold Out- MND Upskill for Health Professionals - Darwin
DESCRIPTION:This event is sold out. Email education@mndnsw.org.au&nbsp\;to 
 join the waiting list.
 This full day practical workshop is for health pr
 ofessionals who are supporting people with MND.&nbsp\;
 Location: Darwin 
 Sailing Club\, 3 Atkins Drive\, Darwin.
LOCATION:8 Atkins Dr\, Frannie Bay\, NT 0820
DTSTART:20240603T233000Z
DTEND:20240604T053000Z
DTSTAMP:20230924T195422Z
ORGANIZER;CN=MNDNSW Website - Events:MAILTO:info@mndnsw.org.au
GEO:-12.428614;130.835695
X-APPLE-STRUCTURED-LOCATION;VALUE=URI;X-ADDRESS=8 Atkins Dr\, Frannie Bay\,
  NT 0820;X-APPLE-RADIUS=72;X-TITLE=Darwin Sailing Club:-12.428614;130.8356
 95
END:VEVENT
END:VCALENDAR