BEGIN:VCALENDAR
VERSION:2.0
PRODID:Events Booking
BEGIN:VEVENT
UID:69e520612f116
SUMMARY:MND Upskill for Health Professionals - Gosford - SOLD OUT
DESCRIPTION:There are no tickets remaining for this session. Please contact
  education@mndnsw.org.au&nbsp\;to join the waiting list.
 This full day p
 ractical workshop is for health professionals who are supporting people wi
 th MND.&nbsp\;
LOCATION:26 Central Coast Hwy\, West Gosford NSW 2250
DTSTART:20240226T223000Z
DTEND:20240227T043000Z
DTSTAMP:20230924T195422Z
ORGANIZER;CN=MNDNSW Website - Events:MAILTO:info@mndnsw.org.au
GEO:-33.428944;151.321807
X-APPLE-STRUCTURED-LOCATION;VALUE=URI;X-ADDRESS=26 Central Coast Hwy\, West
  Gosford NSW 2250;X-APPLE-RADIUS=72;X-TITLE=Gosford RSL club:-33.428944;15
 1.321807
END:VEVENT
END:VCALENDAR