BEGIN:VCALENDAR
VERSION:2.0
PRODID:Events Booking
BEGIN:VEVENT
UID:69e50c049fe28
SUMMARY:Webinar: Equipment Prescribing Tips
DESCRIPTION:FlexEquip Manager\, Alicia Gibb and Occupational Therapy Team L
 eader at Liverpool Hospital\,&nbsp\;Manasi Thornley present a discussion a
 bout the equipment needs of people living with MND and provide tips to con
 sider when prescribing equipment.
DTSTART:20240314T030000Z
DTEND:20240314T043000Z
DTSTAMP:20231218T190151Z
ORGANIZER;CN=MNDNSW Website - Events:MAILTO:info@mndnsw.org.au
END:VEVENT
END:VCALENDAR