BEGIN:VCALENDAR
VERSION:2.0
PRODID:Events Booking
BEGIN:VEVENT
UID:69e50a3a77e32
SUMMARY:MND Upskill for Health Professionals - Burwood
DESCRIPTION:This full day practical workshop is for health professionals wh
 o are supporting people with MND.&nbsp\;
LOCATION:96 Shaftesbury Rd\, Burwood NSW 2134\, Australia
DTSTART:20240320T223000Z
DTEND:20240321T043000Z
DTSTAMP:20230924T195422Z
ORGANIZER;CN=MNDNSW Website - Events:MAILTO:info@mndnsw.org.au
GEO:-33.880814;151.106738
X-APPLE-STRUCTURED-LOCATION;VALUE=URI;X-ADDRESS=96 Shaftesbury Rd\, Burwood
  NSW 2134\, Australia;X-APPLE-RADIUS=72;X-TITLE=Club Burwood RSL:-33.88081
 4;151.106738
END:VEVENT
END:VCALENDAR