BEGIN:VCALENDAR
VERSION:2.0
PRODID:Events Booking
BEGIN:VEVENT
UID:69e50a408ad87
SUMMARY:MND Upskill for Health Professionals - Lake Macquarie
DESCRIPTION:This full day practical workshop is for health professionals wh
 o are supporting people with MND.&nbsp\;
LOCATION:5 Bridge Street\, Swansea
DTSTART:20240312T223000Z
DTEND:20240313T043000Z
DTSTAMP:20230924T195422Z
ORGANIZER;CN=MNDNSW Website - Events:MAILTO:info@mndnsw.org.au
GEO:-33.086925;151.639825
X-APPLE-STRUCTURED-LOCATION;VALUE=URI;X-ADDRESS=5 Bridge Street\, Swansea;X
 -APPLE-RADIUS=72;X-TITLE=Swansea RSL:-33.086925;151.639825
END:VEVENT
END:VCALENDAR