BEGIN:VCALENDAR
VERSION:2.0
PRODID:Events Booking
BEGIN:VEVENT
UID:69e4df7fd283c
SUMMARY:MND Upskill for Health Professionals - Illawarra
DESCRIPTION:This full day practical workshop is for health professionals wh
 o are supporting people with MND.&nbsp\;
LOCATION:Cnr Station St &\, Bong Bong Rd\, Dapto NSW 2530
DTSTART:20240520T233000Z
DTEND:20240521T053000Z
DTSTAMP:20230924T195422Z
ORGANIZER;CN=MNDNSW Website - Events:MAILTO:info@mndnsw.org.au
GEO:-34.493029;150.792874
X-APPLE-STRUCTURED-LOCATION;VALUE=URI;X-ADDRESS=Cnr Station St &\, Bong Bon
 g Rd\, Dapto NSW 2530;X-APPLE-RADIUS=72;X-TITLE=Dapto Leagues Club:-34.493
 029;150.792874
END:VEVENT
END:VCALENDAR