BEGIN:VCALENDAR
VERSION:2.0
PRODID:Events Booking
BEGIN:VEVENT
UID:69e4dfd2c1144
SUMMARY:MND Upskill for Health Professionals - Tamworth
DESCRIPTION:This full day practical workshop is for health professionals wh
 o are supporting people with MND.&nbsp\;
LOCATION:58 Phillip St\, West Tamworth NSW 2340\, Australia
DTSTART:20240513T233000Z
DTEND:20240514T053000Z
DTSTAMP:20230924T195422Z
ORGANIZER;CN=MNDNSW Website - Events:MAILTO:info@mndnsw.org.au
GEO:-31.102436;150.917027
X-APPLE-STRUCTURED-LOCATION;VALUE=URI;X-ADDRESS=58 Phillip St\, West Tamwor
 th NSW 2340\, Australia;X-APPLE-RADIUS=72;X-TITLE=West Tamworth Leagues Cl
 ub:-31.102436;150.917027
END:VEVENT
END:VCALENDAR