BEGIN:VCALENDAR
VERSION:2.0
PRODID:Events Booking
BEGIN:VEVENT
UID:69e4df4c05160
SUMMARY:MND Upskill for Health Professionals - ACT
DESCRIPTION:This full day practical workshop is for health professionals wh
 o are supporting people with MND.&nbsp\;
LOCATION:Collett Pl\, Pearce ACT 2607\, Australia
DTSTART:20240506T233000Z
DTEND:20240507T053000Z
DTSTAMP:20230924T195422Z
ORGANIZER;CN=MNDNSW Website - Events:MAILTO:info@mndnsw.org.au
GEO:-35.363011;149.082904
X-APPLE-STRUCTURED-LOCATION;VALUE=URI;X-ADDRESS=Collett Pl\, Pearce ACT 260
 7\, Australia;X-APPLE-RADIUS=72;X-TITLE=Pearce Community Centre:-35.363011
 ;149.082904
END:VEVENT
END:VCALENDAR