BEGIN:VCALENDAR
VERSION:2.0
PRODID:Events Booking
BEGIN:VEVENT
UID:69e4f3244f4bd
SUMMARY:MND Upskill for Health Professionals - Bondi
DESCRIPTION:This full day practical workshop is for health professionals wh
 o are supporting people with MND.&nbsp\;
LOCATION:32-48 Denison St\, Bondi Junction NSW 2022
DTSTART:20240429T233000Z
DTEND:20240430T053000Z
DTSTAMP:20230924T195422Z
ORGANIZER;CN=MNDNSW Website - Events:MAILTO:info@mndnsw.org.au
GEO:-33.89278;151.245044
X-APPLE-STRUCTURED-LOCATION;VALUE=URI;X-ADDRESS=32-48 Denison St\, Bondi Ju
 nction NSW 2022;X-APPLE-RADIUS=72;X-TITLE=Waverley Library:-33.89278;151.2
 45044
END:VEVENT
END:VCALENDAR