BEGIN:VCALENDAR
VERSION:2.0
PRODID:Events Booking
BEGIN:VEVENT
UID:69e4cafc101a4
SUMMARY:MND Upskill for Health Professionals - Tweed Heads
DESCRIPTION:This full day practical workshop is for health professionals wh
 o are supporting people with MND.&nbsp\;
LOCATION:4 Minjungbal Dr
DTSTART:20240624T233000Z
DTEND:20240625T053000Z
DTSTAMP:20230924T195422Z
ORGANIZER;CN=MNDNSW Website - Events:MAILTO:info@mndnsw.org.au
GEO:-28.195794;153.543924
X-APPLE-STRUCTURED-LOCATION;VALUE=URI;X-ADDRESS=4 Minjungbal Dr;X-APPLE-RAD
 IUS=72;X-TITLE=South Tweed Sports Club:-28.195794;153.543924
END:VEVENT
END:VCALENDAR