BEGIN:VCALENDAR
VERSION:2.0
PRODID:Events Booking
BEGIN:VEVENT
UID:69ea6339112bb
SUMMARY:MND Aware - Wollongong
DESCRIPTION:To support you to make a real difference to a person with motor
  neurone disease\, their carer and family.
LOCATION:2-14 Cliff Rd\, North Wollongong NSW 2500\, Australia
DTSTART:20181024T230000Z
DTEND:20181025T040000Z
DTSTAMP:20260423T182145Z
ORGANIZER;CN=MNDNSW Website - Events:MAILTO:info@mndnsw.org.au
GEO:-34.414434;150.900137
X-APPLE-STRUCTURED-LOCATION;VALUE=URI;X-ADDRESS=2-14 Cliff Rd\, North Wollo
 ngong NSW 2500\, Australia;X-APPLE-RADIUS=72;X-TITLE=Novotel Wollongong No
 rthbeach:-34.414434;150.900137
END:VEVENT
END:VCALENDAR