BEGIN:VCALENDAR
VERSION:2.0
PRODID:Events Booking
BEGIN:VEVENT
UID:69ea4dc262f7f
SUMMARY:14th MND Australia Research Conference
DESCRIPTION:At the&nbsp\;MND Australia&nbsp\;Research Conference is current
  recipients of MNDRIA grants are invited&nbsp\;to report on the outcome of
  their funded project to an&nbsp\;audience comprising their peers\,&nbsp\;
 MND Research Committee members\, other&nbsp\;leading MND scientists and re
 searchers and the wider MND community.
LOCATION:Kenneth Myer Building\, 144/30 Royal Parade\, Parkville VIC 3052\,
  Australia
DTSTART:20181108T213000Z
DTEND:20181109T083000Z
DTSTAMP:20260423T165010Z
ORGANIZER;CN=MNDNSW Website - Events:MAILTO:info@mndnsw.org.au
GEO:-37.798256;144.958516
X-APPLE-STRUCTURED-LOCATION;VALUE=URI;X-ADDRESS=Kenneth Myer Building\, 144
 /30 Royal Parade\, Parkville VIC 3052\, Australia;X-APPLE-RADIUS=72;X-TITL
 E=Ian Potter Auditorium - University of Melbourne:-37.798256;144.958516
END:VEVENT
END:VCALENDAR