BEGIN:VCALENDAR
VERSION:2.0
PRODID:Events Booking
BEGIN:VEVENT
UID:69e9a763ecd91
SUMMARY:MND Special Interest Group (SIG) Workshop (FULL)
DESCRIPTION:Registration for this event is FULL
 The SIG workshop is for c
 linicians and community care professionals from across NSW and the ACT who
  have an interest in and care for people living with MND.
 &nbsp\;
LOCATION:117 Ryedale Road
DTSTART:20190701T230000Z
DTEND:20190702T060000Z
DTSTAMP:20260423T050019Z
ORGANIZER;CN=MNDNSW Website - Events:MAILTO:info@mndnsw.org.au
GEO:-33.805088;151.091825
X-APPLE-STRUCTURED-LOCATION;VALUE=URI;X-ADDRESS=117 Ryedale Road;X-APPLE-RA
 DIUS=72;X-TITLE=Ryde Eastwood Leagues Club:-33.805088;151.091825
END:VEVENT
END:VCALENDAR