BEGIN:VCALENDAR
VERSION:2.0
PRODID:Events Booking
BEGIN:VEVENT
UID:69ea148ea20f8
SUMMARY:MND Aware - Orange
DESCRIPTION:To support you to make a real difference to a person with motor
  neurone disease\, their carer and family.
LOCATION:241 Anson St\, Orange NSW 2800\, Australia
DTSTART:20190220T230000Z
DTEND:20190221T040000Z
DTSTAMP:20260423T124606Z
ORGANIZER;CN=MNDNSW Website - Events:MAILTO:info@mndnsw.org.au
GEO:-33.281659;149.099029
X-APPLE-STRUCTURED-LOCATION;VALUE=URI;X-ADDRESS=241 Anson St\, Orange NSW 2
 800\, Australia;X-APPLE-RADIUS=72;X-TITLE=Orange Ex-Services' Club:-33.281
 659;149.099029
END:VEVENT
END:VCALENDAR