BEGIN:VCALENDAR
VERSION:2.0
PRODID:Events Booking
BEGIN:VEVENT
UID:69e9cfe7567a6
SUMMARY:MND Aware - Newcastle
DESCRIPTION:The MND Aware training has been specifically developed for heal
 th and community care providers.
LOCATION:5 Lincoln St\, Charlestown NSW 2290\, Australia
DTSTART:20190516T000000Z
DTEND:20190516T050000Z
DTSTAMP:20260423T075311Z
ORGANIZER;CN=MNDNSW Website - Events:MAILTO:info@mndnsw.org.au
GEO:-32.96695;151.692914
X-APPLE-STRUCTURED-LOCATION;VALUE=URI;X-ADDRESS=5 Lincoln St\, Charlestown 
 NSW 2290\, Australia;X-APPLE-RADIUS=72;X-TITLE=Charlestown Bowling Club:-3
 2.96695;151.692914
END:VEVENT
END:VCALENDAR