BEGIN:VCALENDAR
VERSION:2.0
PRODID:Events Booking
BEGIN:VEVENT
UID:69e93eb6a4614
SUMMARY:17th International Allied Professionals Forum 
DESCRIPTION:The International Alliance of ALS/MND Associations will host a 
 one-day Allied Professionals Forum at the Perth Convention Centre on 3 Dec
 ember 2019. This seminar\, specifically for allied health and social care 
 professionals\, is held before the International Alliance Meeting&nbsp\;(4
 -6 December).
LOCATION:21 Mounts Bay Road\, Perth
DTSTART:20191202T220000Z
DTEND:20191203T060000Z
DTSTAMP:20260422T213342Z
ORGANIZER;CN=MNDNSW Website - Events:MAILTO:info@mndnsw.org.au
GEO:-31.956505;115.852161
X-APPLE-STRUCTURED-LOCATION;VALUE=URI;X-ADDRESS=21 Mounts Bay Road\, Perth;
 X-APPLE-RADIUS=72;X-TITLE=Perth Convention and Exhibition Centre:-31.95650
 5;115.852161
END:VEVENT
END:VCALENDAR