BEGIN:VCALENDAR
VERSION:2.0
PRODID:Events Booking
BEGIN:VEVENT
UID:69e91c6c85c06
SUMMARY:MND Aware - Central Coast
DESCRIPTION:The MND Aware training has been specifically developed for heal
 th and community care providers.
LOCATION:26 Central Coast Hwy\, West Gosford NSW 2250
DTSTART:20200227T230000Z
DTEND:20200228T040000Z
DTSTAMP:20260422T190724Z
ORGANIZER;CN=MNDNSW Website - Events:MAILTO:info@mndnsw.org.au
GEO:-33.428944;151.321807
X-APPLE-STRUCTURED-LOCATION;VALUE=URI;X-ADDRESS=26 Central Coast Hwy\, West
  Gosford NSW 2250;X-APPLE-RADIUS=72;X-TITLE=Gosford RSL club:-33.428944;15
 1.321807
END:VEVENT
END:VCALENDAR