BEGIN:VCALENDAR
VERSION:2.0
PRODID:Events Booking
BEGIN:VEVENT
UID:69e742016bd3d
SUMMARY:Allied Professionals Forum (APF) 
DESCRIPTION:Do you know a clinician\, physiotherapist\, respiratory therapi
 st\, nutritionist\, speech-language pathologist\, social worker\, person l
 iving with MND or a caregiver?
 Everyone is welcome to attend!&nbsp\;
DTSTART:20211201T110000Z
DTEND:20211201T160000Z
DTSTAMP:20211018T132816Z
ORGANIZER;CN=MNDNSW Website - Events:MAILTO:info@mndnsw.org.au
END:VEVENT
END:VCALENDAR