BEGIN:VCALENDAR
VERSION:2.0
PRODID:Events Booking
BEGIN:VEVENT
UID:69e7096d2e7fb
SUMMARY:MND Aware Education Workshop - Tamworth
DESCRIPTION:MND Aware Education Workshop for Allied Health professionals wh
 o want to know more about motor neurone disease.
LOCATION:114/148 Johnston Street\, North Tamworth NSW 2340
DTSTART:20220329T221500Z
DTEND:20220330T033000Z
DTSTAMP:20220320T140241Z
ORGANIZER;CN=MNDNSW Website - Events:MAILTO:info@mndnsw.org.au
GEO:-31.075168;150.918123
X-APPLE-STRUCTURED-LOCATION;VALUE=URI;X-ADDRESS=114/148 Johnston Street\, N
 orth Tamworth NSW 2340;X-APPLE-RADIUS=72;X-TITLE=Tamworth Education Centre
 \, University of Newcastle\, Department of Rural Health:-31.075168;150.918
 123
END:VEVENT
END:VCALENDAR