BEGIN:VCALENDAR
VERSION:2.0
PRODID:Events Booking
BEGIN:VEVENT
UID:69e6e02adacf3
SUMMARY:Central & Eastern Sydney Support Group 
DESCRIPTION:This is an online group for people who are supported by&nbsp\;M
 ND Advisor Jodie\,&nbsp\;that live in the Eastern Suburbs\, Inner West and
  Southern Suburbs of Sydney.&nbsp\;
DTSTART:20220526T000000Z
DTEND:20220526T010000Z
DTSTAMP:20220511T222837Z
ORGANIZER;CN=MNDNSW Website - Events:MAILTO:info@mndnsw.org.au
END:VEVENT
END:VCALENDAR