BEGIN:VCALENDAR
VERSION:2.0
PRODID:Events Booking
BEGIN:VEVENT
UID:69e77a187a99e
SUMMARY:Western Sydney Support Group *CANCELLED*
DESCRIPTION:Western Sydney support group -&nbsp\;*CANCELLED*
 This is a gr
 oup meeting for people who are supported by our MND Advisor Cathy\,&nbsp\;
 that live in Western Sydney and the Blue Mountains.
LOCATION:45 Riverbank Dr\, The Ponds NSW 2769
DTSTART:20220915T000000Z
DTEND:20220915T020000Z
DTSTAMP:20220516T151545Z
ORGANIZER;CN=MNDNSW Website - Events:MAILTO:info@mndnsw.org.au
GEO:-33.705421;150.908173
X-APPLE-STRUCTURED-LOCATION;VALUE=URI;X-ADDRESS=45 Riverbank Dr\, The Ponds
  NSW 2769;X-APPLE-RADIUS=72;X-TITLE=The Ponds Community Hub:-33.705421;150
 .908173
END:VEVENT
END:VCALENDAR