BEGIN:VCALENDAR
VERSION:2.0
PRODID:Events Booking
BEGIN:VEVENT
UID:69e67a3e2aeb4
SUMMARY:Kitchen Table Conversations  
DESCRIPTION:Carers Kitchen Table Conversations - an opportunity for carers 
 to&nbsp\;share some time with other MND carers as we talk about our day&nb
 sp\;to day lives.
 Morning session
DTSTART:20221012T233000Z
DTEND:20221013T003000Z
DTSTAMP:20220621T190709Z
ORGANIZER;CN=MNDNSW Website - Events:MAILTO:info@mndnsw.org.au
END:VEVENT
END:VCALENDAR