BEGIN:VCALENDAR
VERSION:2.0
PRODID:Events Booking
BEGIN:VEVENT
UID:69e797c03411e
SUMMARY:Updates in the treatment of ALS/MND
DESCRIPTION:Join us for this free online webinar ‘Updates in the treatmen
 t of ALS/MND’ presented by Professor Steve Vucic.
DTSTART:20220801T010000Z
DTEND:20220801T020000Z
DTSTAMP:20220628T195834Z
ORGANIZER;CN=MNDNSW Website - Events:MAILTO:info@mndnsw.org.au
END:VEVENT
END:VCALENDAR